BEGIN:VCALENDAR
VERSION:2.0
PRODID:-// - ECPv6.15.20//NONSGML v1.0//EN
CALSCALE:GREGORIAN
METHOD:PUBLISH
X-ORIGINAL-URL:https://ywhs.org.uk
X-WR-CALDESC:Events for 
REFRESH-INTERVAL;VALUE=DURATION:PT1H
X-Robots-Tag:noindex
X-PUBLISHED-TTL:PT1H
BEGIN:VTIMEZONE
TZID:Europe/London
BEGIN:DAYLIGHT
TZOFFSETFROM:+0000
TZOFFSETTO:+0100
TZNAME:BST
DTSTART:20250330T010000
END:DAYLIGHT
BEGIN:STANDARD
TZOFFSETFROM:+0100
TZOFFSETTO:+0000
TZNAME:GMT
DTSTART:20251026T010000
END:STANDARD
BEGIN:DAYLIGHT
TZOFFSETFROM:+0000
TZOFFSETTO:+0100
TZNAME:BST
DTSTART:20260329T010000
END:DAYLIGHT
BEGIN:STANDARD
TZOFFSETFROM:+0100
TZOFFSETTO:+0000
TZNAME:GMT
DTSTART:20261025T010000
END:STANDARD
BEGIN:DAYLIGHT
TZOFFSETFROM:+0000
TZOFFSETTO:+0100
TZNAME:BST
DTSTART:20270328T010000
END:DAYLIGHT
BEGIN:STANDARD
TZOFFSETFROM:+0100
TZOFFSETTO:+0000
TZNAME:GMT
DTSTART:20271031T010000
END:STANDARD
END:VTIMEZONE
BEGIN:VEVENT
DTSTART;TZID=Europe/London:20260719T110000
DTEND;TZID=Europe/London:20260719T140000
DTSTAMP:20260421T142341
CREATED:20260417T142615Z
LAST-MODIFIED:20260417T143604Z
UID:15005-1784458800-1784469600@ywhs.org.uk
SUMMARY:Seaman's Memorial Service
DESCRIPTION:This is the annual service of remembrance for the multitude of mariners from Goole who are no longer with us. It has special significance this year which is the 200th anniversary of the opening of the port and town in 1826.
URL:https://ywhs.org.uk/event/seamans-memorial-service/
LOCATION:Seaman’s Memorial\, Lock Hill\, Goole\, East Riding of Yorkshire
ATTACH;FMTTYPE=image/jpeg:https://ywhs.org.uk/wp-content/uploads/2026/01/Lock-Hill-2012.jpg
END:VEVENT
BEGIN:VEVENT
DTSTART;TZID=Europe/London:20260720T193000
DTEND;TZID=Europe/London:20260720T220000
DTSTAMP:20260421T142341
CREATED:20260126T113330Z
LAST-MODIFIED:20260204T193312Z
UID:14574-1784575800-1784584800@ywhs.org.uk
SUMMARY:Canal Boat Stories - Live! with Robbie Cumming
DESCRIPTION:  \nUSE THIS LINK TO BOOK YOUR TICKETS ONLINE.
URL:https://ywhs.org.uk/event/canal-boat-stories-live-with-robbie-cumming-2/
LOCATION:Junction Goole\, Paradise Place\, Goole\, East Riding of Yorkshire\, DN14 5DL\, United Kingdom
ATTACH;FMTTYPE=image/jpeg:https://ywhs.org.uk/wp-content/uploads/2026/02/Capture-Robbie-Cumming-Poster-Cropped.jpg
END:VEVENT
BEGIN:VEVENT
DTSTART;TZID=Europe/London:20260917T190000
DTEND;TZID=Europe/London:20260917T210000
DTSTAMP:20260421T142341
CREATED:20250928T072321Z
LAST-MODIFIED:20260302T113257Z
UID:11776-1789671600-1789678800@ywhs.org.uk
SUMMARY:Pontefract and District Family History Society
DESCRIPTION:Presentation: Life and Death on Yorkshire’s Waterways \nDrawing on his extensive research into 19th and early 20th century Yorkshire watermen families\, David Scrimgeour will share what he has learned about the BMD facts so important to family historians. Illustrated with examples peculiar to life on the waterways this is not a presentation for the faint hearted. The happy events of births and marriages are outweighed by the many unnatural deaths associated with what was a very\, very hazardous occupation for the watermen and their families.
URL:https://ywhs.org.uk/event/pontefract-and-district-family-history-society/
LOCATION:Central Methodist Church Hall\, Tanshelf Drive\, Pontefract\, West Yorkshire\, WF8 1NB\, United Kingdom
END:VEVENT
END:VCALENDAR