BEGIN:VCALENDAR
VERSION:2.0
PRODID:-// - ECPv6.15.20//NONSGML v1.0//EN
CALSCALE:GREGORIAN
METHOD:PUBLISH
X-ORIGINAL-URL:https://ywhs.org.uk
X-WR-CALDESC:Events for 
REFRESH-INTERVAL;VALUE=DURATION:PT1H
X-Robots-Tag:noindex
X-PUBLISHED-TTL:PT1H
BEGIN:VTIMEZONE
TZID:Europe/London
BEGIN:DAYLIGHT
TZOFFSETFROM:+0000
TZOFFSETTO:+0100
TZNAME:BST
DTSTART:20220327T010000
END:DAYLIGHT
BEGIN:STANDARD
TZOFFSETFROM:+0100
TZOFFSETTO:+0000
TZNAME:GMT
DTSTART:20221030T010000
END:STANDARD
BEGIN:DAYLIGHT
TZOFFSETFROM:+0000
TZOFFSETTO:+0100
TZNAME:BST
DTSTART:20230326T010000
END:DAYLIGHT
BEGIN:STANDARD
TZOFFSETFROM:+0100
TZOFFSETTO:+0000
TZNAME:GMT
DTSTART:20231029T010000
END:STANDARD
BEGIN:DAYLIGHT
TZOFFSETFROM:+0000
TZOFFSETTO:+0100
TZNAME:BST
DTSTART:20240331T010000
END:DAYLIGHT
BEGIN:STANDARD
TZOFFSETFROM:+0100
TZOFFSETTO:+0000
TZNAME:GMT
DTSTART:20241027T010000
END:STANDARD
END:VTIMEZONE
BEGIN:VEVENT
DTSTART;TZID=Europe/London:20231007T103000
DTEND;TZID=Europe/London:20231007T120000
DTSTAMP:20260423T135451
CREATED:20230622T120943Z
LAST-MODIFIED:20230622T120943Z
UID:6224-1696674600-1696680000@ywhs.org.uk
SUMMARY:Wakefield and District Family History Society
DESCRIPTION:Wakefield and District Family History Society\, The Outwood Memorial Hall\, Leeds Road\, Outwood\, Wakefield. Also available by Zoom.  \nYorkshire’s Watermen \nSociety trustee David Scrimgeour will be presenting “Yorkshire’s Watermen”. \nThe transportation of goods across pre motorway Yorkshire relied heavily on the watermen\, often accompanied by their families\, who piloted their well laden keels along the numerous canals and rivers of the county. David Scrimgeour shares his new research examining the extant Canal Boat Registers to see what extra insight they offer the family historian\, illustrated with real examples from watermen families across the county. \n  \n  \n 
URL:https://ywhs.org.uk/event/wakefield-and-district-family-history-society/
LOCATION:The Outwood Memorial Hall\, Victoria Street\, Outwood\, Wakefield\, West Yorkshire\, WF1 2NE\, United Kingdom
END:VEVENT
BEGIN:VEVENT
DTSTART;TZID=Europe/London:20230921T193000
DTEND;TZID=Europe/London:20230921T213000
DTSTAMP:20260423T135451
CREATED:20230622T120558Z
LAST-MODIFIED:20230622T120558Z
UID:6221-1695324600-1695331800@ywhs.org.uk
SUMMARY:Olicana Historical Society Meeting
DESCRIPTION:Olicana Historical Society meeting at The Clarke Foley Centre\, Cunliffe Road \,Ilkley\, West Yorkshire. Society trustee David Scrimgeour will be presenting “Yorkshire’s Watermen”.
URL:https://ywhs.org.uk/event/olicana-historical-society-meeting/
LOCATION:The Clarke Foley Centre\, Cuncliffe Road\, Ilkley\, West Yorkshire\, LS29 9DZ\, United Kingdom
END:VEVENT
BEGIN:VEVENT
DTSTART;TZID=Europe/London:20230822T100000
DTEND;TZID=Europe/London:20230902T140000
DTSTAMP:20260423T135451
CREATED:20230622T120051Z
LAST-MODIFIED:20230628T134429Z
UID:6216-1692698400-1693663200@ywhs.org.uk
SUMMARY:Goole Local History Group Summer Exhibition
DESCRIPTION:COME AND TAKE A JOURNEY THROUGH GOOLE’S RICH PAST.\nJoin us in our workshop at the Junction as we transform the space for an exhibition of photos and memorabilia taking us back in time through Goole’s history. \nThe exhibition includes Goole and District Photos from the Goole Local History Group and also features the Goole First World War Research Group and the Yorkshire Waterways Heritage Society. \nA fascinating delve into our town’s past.
URL:https://ywhs.org.uk/event/goole-local-history-group-public-exhibition/
LOCATION:Junction Goole\, Paradise Place\, Goole\, East Riding of Yorkshire\, DN14 5DL\, United Kingdom
END:VEVENT
BEGIN:VEVENT
DTSTART;TZID=Europe/London:20230814T190000
DTEND;TZID=Europe/London:20230814T213000
DTSTAMP:20260423T135451
CREATED:20230622T115719Z
LAST-MODIFIED:20230622T115750Z
UID:6213-1692039600-1692048600@ywhs.org.uk
SUMMARY:Boothferry Local and Family History Society meeting
DESCRIPTION:Boothferry Local and Family History Society meeting at The Courtyard\, Boothferry Road\, Goole\, East Yorkshire. Society trustee David Scrimgeour will be presenting “Births\, Marriages and Deaths on Yorkshire’s Waterways”.
URL:https://ywhs.org.uk/event/boothferry-local-and-family-history-society-meeting/
LOCATION:The Courtyard\, Boothferry Road\, Goole\, East Riding of Yorkshire\, DN146AE\, United Kingdom
END:VEVENT
BEGIN:VEVENT
DTSTART;TZID=Europe/London:20230730T120000
DTEND;TZID=Europe/London:20230730T120000
DTSTAMP:20260423T135451
CREATED:20230622T115301Z
LAST-MODIFIED:20230622T115301Z
UID:6207-1690718400-1690718400@ywhs.org.uk
SUMMARY:Friends of West Park Vintage in the Park
DESCRIPTION:Friends of West Park Vintage in the Park event West Park\, Goole\, East Yorkshire – YWHS will host an information stand.
URL:https://ywhs.org.uk/event/friends-of-west-park-vintage-in-the-park/
LOCATION:West Park\, Airmyn Road\, Goole\, East Riding of Yorkshire\, DN146XA\, United Kingdom
END:VEVENT
BEGIN:VEVENT
DTSTART;TZID=Europe/London:20230721T100000
DTEND;TZID=Europe/London:20230721T120000
DTSTAMP:20260423T135451
CREATED:20230622T114442Z
LAST-MODIFIED:20230627T074307Z
UID:6200-1689933600-1689940800@ywhs.org.uk
SUMMARY:Howden U3A Family History Group
DESCRIPTION:Howden U3A Family History Group meeting at  Village Hall\, Newport\, East Yorkshire. Society trustee David Scrimgeour will be presenting “Yorkshire’s Watermen”.
URL:https://ywhs.org.uk/event/howden-u3a-family-history-group-meeting/
LOCATION:Newport Village Hall\, 6 Main Road\, Newport\, Brough\, East Riding of Yorkshire\, HU152PP\, United Kingdom
END:VEVENT
BEGIN:VEVENT
DTSTART;TZID=Europe/London:20230624T100000
DTEND;TZID=Europe/London:20230624T160000
DTSTAMP:20260423T135451
CREATED:20230622T112811Z
LAST-MODIFIED:20230623T203632Z
UID:6190-1687600800-1687622400@ywhs.org.uk
SUMMARY:York Family History Fair\, The Racecourse\, York
DESCRIPTION:YWHS will be showcasing how they can help family historians researching their own watermen ancestors.
URL:https://ywhs.org.uk/event/york-family-history-fair-the-racecourse-york/
LOCATION:York Racecourse\, Knavesmire Road\, York\, North Yorkshire\, YO23 1EX\, United Kingdom
END:VEVENT
END:VCALENDAR